BEGIN:VCALENDAR
VERSION:2.0
PRODID:-//eventon.com NONSGML v1.0//EN
CALSCALE:GREGORIAN
METHOD:PUBLISH
BEGIN:VEVENT
UID:69ea2fb9abeec
DTSTAMP:20260423T144201Z
DTSTART:20220309T000000Z
DTEND:20220309T020000Z
LOCATION:Hilliard Civic &amp; Cultural Arts Center 5425 Center Street Hilliard\,  OH 43026
SUMMARY:1776 Auditions
DESCRIPTION:Auditions will be held on Tuesday March 8 from 7pm until 9pm an
 d on Saturday March 12 from 4pm until 6pm at the Hilliard Civic and Cultura
 l Arts Center\,  5425 Center Street Hilliard\,  Ohio 43026. Auditions must 
 be signed up for in advance. Click the LEARN MORE button for more[..]\nhttp
 s://www.hilliardartscouncil.org/events/1776-auditions/
URL:https://www.hilliardartscouncil.org/events/1776-auditions/
END:VEVENT
END:VCALENDAR