BEGIN:VCALENDAR
VERSION:2.0
PRODID:-//eventon.com NONSGML v1.0//EN
CALSCALE:GREGORIAN
METHOD:PUBLISH
BEGIN:VEVENT
UID:69e8256b718af
DTSTAMP:20260422T013331Z
DTSTART:20220109T180000Z
DTEND:20220109T210000Z
LOCATION:Hilliard Civic &amp; Cultural Arts Center 5425 Center Street Hilliard\,  OH 43026
SUMMARY:Seussical Jr. Auditions
DESCRIPTION:Open auditions for kids in grades 4-8 for Seussical Jr.\,  a ch
 ildren’s musical based on Dr. Seuss stories and characters\,  being produ
 ced in early March.&nbsp; Sign Up required &#8211; see the audition announc
 ement for more information\nhttps://www.hilliardartscouncil.org/events/seus
 sical-jr-auditions/var/ri-1.l-L1
URL:https://www.hilliardartscouncil.org/events/seussical-jr-auditions/var/ri-1.l-L1
END:VEVENT
END:VCALENDAR