BEGIN:VCALENDAR
VERSION:2.0
PRODID:-//eventon.com NONSGML v1.0//EN
CALSCALE:GREGORIAN
METHOD:PUBLISH
BEGIN:VEVENT
UID:69eb986c7492f
DTSTAMP:20260424T162100Z
DTSTART:20220629T220000Z
DTEND:20220630T010000Z
LOCATION:Hilliard Civic &amp; Cultural Arts Center 5425 Center Street Hilliard\,  OH 43026
SUMMARY:Art Class:  Stained Glass Suncatcher
DESCRIPTION:Class Description: In this class you will learn the basic techn
 iques of working with stained glass and create this beautiful triangle sun-
 catcher to display in your home or give as a gift. Each sun-catcher include
 s a beveled piece and different choices of colored glass to help create a u
 nique piece[..]\nhttps://www.hilliardartscouncil.org/events/art-class-stain
 ed-glass-suncatcher/
URL:https://www.hilliardartscouncil.org/events/art-class-stained-glass-suncatcher/
END:VEVENT
END:VCALENDAR